BEGIN:VCALENDAR
VERSION:2.0
PRODID:Events Booking
BEGIN:VEVENT
UID:69e576aa36cda
SUMMARY:10 claves para Certificarse con PMI®: Habilidad y estrategia antes
  de conocimiento
DESCRIPTION:El Capítulo PMI®&nbsp\;Antioquia te invita
 10 claves para C
 ertificarse con PMI®: Habilidad y estrategia antes de conocimiento
 &nbs
 p\;
 
DTSTART:20230426T233000Z
DTEND:20230427T003000Z
DTSTAMP:20230325T003531Z
ORGANIZER;CN=PMI Antioquia Chapter:MAILTO:contacto@pmiantioquia.org
END:VEVENT
END:VCALENDAR