BEGIN:VCALENDAR
VERSION:2.0
PRODID:Events Booking
BEGIN:VEVENT
UID:69ea112a95199
SUMMARY:10 mitos y verdades de la estimación de costos en megaproyectos en
  Latinoamérica
DESCRIPTION:&nbsp\;
 \"10 mitos y verdades de la estimación de costos en 
 megaproyectos en Latinoamerica\"
 &nbsp\;
 &nbsp\;
DTSTART:20210901T230000Z
DTEND:20210902T000000Z
DTSTAMP:20260423T123138Z
ORGANIZER;CN=PMI Antioquia Chapter:MAILTO:contacto@pmiantioquia.org
END:VEVENT
END:VCALENDAR