BEGIN:VCALENDAR
VERSION:2.0
PRODID:Events Booking
BEGIN:VEVENT
UID:69ead78355fea
SUMMARY:1er Encuentro del Bien Social en Antioquia
DESCRIPTION:
DTSTART:20210227T130000Z
DTEND:20210227T183000Z
DTSTAMP:20260424T023755Z
ORGANIZER;CN=PMI Antioquia Chapter:MAILTO:contacto@pmiantioquia.org
END:VEVENT
END:VCALENDAR