BEGIN:VCALENDAR
VERSION:2.0
PRODID:Events Booking
BEGIN:VEVENT
UID:69ec1fb6c650a
SUMMARY:2020: Evolución Digital\, más allá de la transformación digital
DESCRIPTION:✔&nbsp\;CONFERENCIA PRESENCIAL ?&nbsp\;“2020:Evolución Dig
 ital\, más allá de la transformación digital” ?&nbsp\;Speaker: Gabrie
 l Alzate ?&nbsp\;Fecha: Martes 25 de Febrero 2020 ⌚&nbsp\;Hora: 6:00 P.M
 . ?Ubicación: Universidad EAFIT\, Bloque 27\, aula 101 ?&nbsp\;PDU: 1 PDU
  Estratégico ? Link registro: https://pmiantioquiagabrielalzate.eventbrit
 e.com
LOCATION:Carrera 49\, número 7 sur 50\, Medellín Bloque 27\, aula 101
DTSTART:20200225T230000Z
DTEND:20200226T000000Z
DTSTAMP:20260425T015814Z
ORGANIZER;CN=PMI Antioquia Chapter:MAILTO:contacto@pmiantioquia.org
END:VEVENT
END:VCALENDAR