BEGIN:VCALENDAR
VERSION:2.0
PRODID:Events Booking
BEGIN:VEVENT
UID:69e9743470583
SUMMARY:AGILITY CHAMPIONS
DESCRIPTION:&nbsp\;
 El PMI Antioquia invita al Primer Episodio de la temp
 orada 2022 de PMI LATAM Changemakers Initiative 
 &nbsp\;
DTSTART:20220317T190000Z
DTEND:20220319T170000Z
DTSTAMP:20260423T012156Z
ORGANIZER;CN=PMI Antioquia Chapter:MAILTO:contacto@pmiantioquia.org
END:VEVENT
END:VCALENDAR