BEGIN:VCALENDAR
VERSION:2.0
PRODID:Events Booking
BEGIN:VEVENT
UID:69ea1551e7ad6
SUMMARY:Amor y amistad Flash Promo - Congreso PMI Colombia 2021
DESCRIPTION:&nbsp\;
 Amor y amistad&nbsp\; &nbsp\;Flash Promo!!!&nbsp\;
 
 &nbsp\;
 
DTSTART:20210916T050000Z
DTEND:20210920T045500Z
DTSTAMP:20260423T124921Z
ORGANIZER;CN=PMI Antioquia Chapter:MAILTO:contacto@pmiantioquia.org
END:VEVENT
END:VCALENDAR