BEGIN:VCALENDAR
VERSION:2.0
PRODID:Events Booking
BEGIN:VEVENT
UID:69ea12517231b
SUMMARY:Congreso Virtual de Dirección de Proyectos Colombia 2021
DESCRIPTION:
 Congreso Virtual de Dirección de Proyectos Colombia 2021
 
 &nbsp\;
 
DTSTART:20210930T130000Z
DTEND:20211002T210000Z
DTSTAMP:20260423T123633Z
ORGANIZER;CN=PMI Antioquia Chapter:MAILTO:contacto@pmiantioquia.org
END:VEVENT
END:VCALENDAR