BEGIN:VCALENDAR
VERSION:2.0
PRODID:Events Booking
BEGIN:VEVENT
UID:69e9eeb225173
SUMMARY:Congreso Presencial de Dirección de Proyectos Colombia 2021
DESCRIPTION:
 Congreso Presencial de Dirección de Proyectos Colombia 2021
 
 &nbsp\;
 
DTSTART:20211002T130000Z
DTEND:20211002T210000Z
DTSTAMP:20260423T100434Z
ORGANIZER;CN=PMI Antioquia Chapter:MAILTO:contacto@pmiantioquia.org
END:VEVENT
END:VCALENDAR