BEGIN:VCALENDAR
VERSION:2.0
PRODID:Events Booking
BEGIN:VEVENT
UID:69ead3ead93fc
SUMMARY:Asamblea General Ordinaria 2021
DESCRIPTION:
DTSTART:20210217T230000Z
DTEND:20210218T010000Z
DTSTAMP:20260424T022234Z
ORGANIZER;CN=PMI Antioquia Chapter:MAILTO:contacto@pmiantioquia.org
END:VEVENT
END:VCALENDAR