BEGIN:VCALENDAR
VERSION:2.0
PRODID:Events Booking
BEGIN:VEVENT
UID:69eb41e29d753
SUMMARY:Asamblea Extraordinaria
DESCRIPTION:Informe de Gestión
 Formalizar Elecciones Presidente
DTSTART:20201007T230000Z
DTEND:20201008T010000Z
DTSTAMP:20260424T101146Z
ORGANIZER;CN=PMI Antioquia Chapter:MAILTO:contacto@pmiantioquia.org
END:VEVENT
END:VCALENDAR