BEGIN:VCALENDAR
VERSION:2.0
PRODID:Events Booking
BEGIN:VEVENT
UID:69ec337cd1df6
SUMMARY:Asamblea General Ordinaria 2020
DESCRIPTION:Los invitamos a postularse como voluntarios para liderar el Con
 greso Internacional de Dirección de Proyectos del Capítulo PMI Antioquia
  2020
DTSTART:20200123T233000Z
DTEND:20200124T023000Z
DTSTAMP:20260425T032236Z
ORGANIZER;CN=PMI Antioquia Chapter:MAILTO:contacto@pmiantioquia.org
END:VEVENT
END:VCALENDAR