BEGIN:VCALENDAR
VERSION:2.0
PRODID:Events Booking
BEGIN:VEVENT
UID:69e9702f5b509
SUMMARY:Asamblea General Ordinaria 2022
DESCRIPTION:El capítulo PMI Antioquia invita a todos sus miembros a la Asa
 mblea Geneal Ordinaria 
 &nbsp\;
DTSTART:20220302T230000Z
DTEND:20220303T013000Z
DTSTAMP:20260423T010447Z
ORGANIZER;CN=PMI Antioquia Chapter:MAILTO:contacto@pmiantioquia.org
END:VEVENT
END:VCALENDAR