BEGIN:VCALENDAR
VERSION:2.0
PRODID:Events Booking
BEGIN:VEVENT
UID:69ea26cc116fe
SUMMARY:Beneficios del Análisis Cuantitativo en la Gestión de Riesgos de 
 Proyectos
DESCRIPTION:
 &nbsp\;
 Gratis para Miembros&nbsp\;
DTSTART:20210811T230000Z
DTEND:20210812T000000Z
DTSTAMP:20260423T140356Z
ORGANIZER;CN=PMI Antioquia Chapter:MAILTO:contacto@pmiantioquia.org
END:VEVENT
END:VCALENDAR