BEGIN:VCALENDAR
VERSION:2.0
PRODID:Events Booking
BEGIN:VEVENT
UID:69e9416b8d6bf
SUMMARY:BIM para gestionar proyectos de construcción
DESCRIPTION:&nbsp\;
 Este webinar trata de los principales beneficios que 
 podría traer BIM (Building Information Modeling) para facilitar la gesti
 ón de proyectos de construcción\, desde las etapas iniciales\, hasta las
  fases de desarrollo y entrega del activo construido.
 &nbsp\;
 
DTSTART:20220504T233000Z
DTEND:20220505T003000Z
DTSTAMP:20260422T214515Z
ORGANIZER;CN=PMI Antioquia Chapter:MAILTO:contacto@pmiantioquia.org
END:VEVENT
END:VCALENDAR