BEGIN:VCALENDAR
VERSION:2.0
PRODID:Events Booking
BEGIN:VEVENT
UID:69eabb24561a9
SUMMARY:Café Virtual: Agilidad Consciente
DESCRIPTION:
DTSTART:20210324T123000Z
DTEND:20210324T133000Z
DTSTAMP:20260424T003652Z
ORGANIZER;CN=PMI Antioquia Chapter:MAILTO:contacto@pmiantioquia.org
END:VEVENT
END:VCALENDAR