BEGIN:VCALENDAR
VERSION:2.0
PRODID:Events Booking
BEGIN:VEVENT
UID:69eb73af557db
SUMMARY:Importancia y estructura de la gestión de proyectos
DESCRIPTION:Pedro Lluch: Gerente de Proyectos que construyo la planta de ce
 mentos de Corona- 35 años de experiencia!
 &nbsp\;
 Youtube: CanalPMI A
 ntioquia
 6pm Agosto 5
 &nbsp\;
DTSTART:20200805T230000Z
DTEND:20200806T000000Z
DTSTAMP:20260424T134415Z
ORGANIZER;CN=PMI Antioquia Chapter:MAILTO:contacto@pmiantioquia.org
END:VEVENT
END:VCALENDAR