BEGIN:VCALENDAR
VERSION:2.0
PRODID:Events Booking
BEGIN:VEVENT
UID:69e8da19df141
SUMMARY:Changemakers STUDENTS
DESCRIPTION:
DTSTART:20220910T130000Z
DTEND:20220910T170000Z
DTSTAMP:20260422T142425Z
ORGANIZER;CN=PMI Antioquia Chapter:MAILTO:contacto@pmiantioquia.org
END:VEVENT
END:VCALENDAR