BEGIN:VCALENDAR
VERSION:2.0
PRODID:Events Booking
BEGIN:VEVENT
UID:69e93452ee8b8
SUMMARY:ChangeMakers Teens 2022 | Hackatón Social en Antioquia
DESCRIPTION:PMI ANTIOQUIA te invita a hacer parte de esta Hackaton 2022 que
  se realizará en 31 capitulos en simultaneo en Latinoamérica.&nbsp\;
 L
 os jovenes entre 13 y 19 años\, 
 se pueden registrar con el adulto resp
 onsable.
 VEN Y TRANSFORMEMOS EL MUNDO UN PROYECTO A LA VEZ
 
DTSTART:20220611T140000Z
DTEND:20220611T210000Z
DTSTAMP:20260422T204922Z
ORGANIZER;CN=PMI Antioquia Chapter:MAILTO:contacto@pmiantioquia.org
END:VEVENT
END:VCALENDAR