BEGIN:VCALENDAR
VERSION:2.0
PRODID:Events Booking
BEGIN:VEVENT
UID:69ebb215b1914
SUMMARY:Túneles en Antioquia\, retos y oportunidades - Ing. Jaime Ramirez 
 Ossa
DESCRIPTION:&nbsp\;✔️Charla junto a la SAI
 &nbsp\;
 YouTube canal PM
 I Antioquia
DTSTART:20200624T230000Z
DTEND:20200625T010000Z
DTSTAMP:20260424T181029Z
ORGANIZER;CN=PMI Antioquia Chapter:MAILTO:contacto@pmiantioquia.org
END:VEVENT
END:VCALENDAR