BEGIN:VCALENDAR
VERSION:2.0
PRODID:Events Booking
BEGIN:VEVENT
UID:69eb94109cd9d
SUMMARY:¿Cómo conseguir el siguiente nivel de la PMO o diseñar una nueva
  PMO? 
DESCRIPTION:-Harry Cespedes
 -Solo para Miembros
DTSTART:20200716T230000Z
DTEND:20200717T000000Z
DTSTAMP:20260424T160224Z
ORGANIZER;CN=PMI Antioquia Chapter:MAILTO:contacto@pmiantioquia.org
END:VEVENT
END:VCALENDAR