BEGIN:VCALENDAR
VERSION:2.0
PRODID:Events Booking
BEGIN:VEVENT
UID:69eb3ca80ce9d
SUMMARY:¿Cómo gestionar la incertidumbre con Lean Construction?
DESCRIPTION:Marco Tapia Mera\, PMP®
 Gratis para Miembros
DTSTART:20201021T230000Z
DTEND:20201021T050000Z
DTSTAMP:20260424T094928Z
ORGANIZER;CN=PMI Antioquia Chapter:MAILTO:contacto@pmiantioquia.org
END:VEVENT
END:VCALENDAR