BEGIN:VCALENDAR
VERSION:2.0
PRODID:Events Booking
BEGIN:VEVENT
UID:69ea31c04ab1a
SUMMARY:Como triunfar con tu proyecto de emprendimiento digital
DESCRIPTION:El Capítulo PMI Antioquia invita a la comunidad a la conferenc
 ia \"Como triunfar con tu proyecto de emprendimiento digital\"
 &nbsp\;

  
 &nbsp\;
 &nbsp\;
DTSTART:20210826T230000Z
DTEND:20210827T000000Z
DTSTAMP:20260423T145040Z
ORGANIZER;CN=PMI Antioquia Chapter:MAILTO:contacto@pmiantioquia.org
END:VEVENT
END:VCALENDAR