BEGIN:VCALENDAR
VERSION:2.0
PRODID:Events Booking
BEGIN:VEVENT
UID:69ec054d48d92
SUMMARY:Conferencia: Ante la Crisis ¿Resistir o Sucumbir?
DESCRIPTION: CONFERENCIA EN VIVO- YouTube Streaming
  “Ante la Crisis ¿
 Resistir o Sucumbir?”
 ?Un breve recorrido por la gestión de las crisi
 s desde la visión del director de proyectos. ¿Se pueden detectar?\, ¿Qu
 é hay que hacer para afrontarlas?\, Tengo las habilidades para gestionarl
 a?
 ? Conferencista: Carlos Eduardo Macias Torres\, PMP\, Vicepresidente 
 del PMI Capítulo Antioquia Ingeniero Civil\, Especialista en Finanzas y M
 aestro en Diseño\, gestión y dirección de proyectos.
 ?Experiencia en 
 proyectos: Túnel del Toyo\, Parques del Río Medellín\, Concesión Túne
 l de Oriente\, Concesión Aburrá Oriente\, Carretera Bogotá Villavicenci
 o\, Chingaza\, entre otros.
  Fecha: Martes 31 de Marzo 2020
  6:00pm ho
 ra Colombia (1 h)
  &nbsp\;https://www.youtube.com/user/SAIANTIOQUIA
  P
 DU: 1 PDU Liderazgo
DTSTART:20200331T230000Z
DTEND:20200401T000000Z
DTSTAMP:20260425T000533Z
ORGANIZER;CN=PMI Antioquia Chapter:MAILTO:contacto@pmiantioquia.org
END:VEVENT
END:VCALENDAR