BEGIN:VCALENDAR
VERSION:2.0
PRODID:Events Booking
BEGIN:VEVENT
UID:69e91072b011e
SUMMARY:Factores críticos de éxito de la Gestion de Riesgos en Proyectos
DESCRIPTION:
DTSTART:20220713T233000Z
DTEND:20220714T003000Z
DTSTAMP:20260422T181618Z
ORGANIZER;CN=PMI Antioquia Chapter:MAILTO:contacto@pmiantioquia.org
END:VEVENT
END:VCALENDAR