BEGIN:VCALENDAR
VERSION:2.0
PRODID:Events Booking
BEGIN:VEVENT
UID:69e4f87bdd007
SUMMARY:CONGRESO INTERNACIONAL EN GERENCIA DE PROYECTOS
DESCRIPTION:&nbsp\;
 &nbsp\;
DTSTART:20230901T050000Z
DTEND:20230902T050000Z
DTSTAMP:20260419T154459Z
ORGANIZER;CN=PMI Antioquia Chapter:MAILTO:contacto@pmiantioquia.org
END:VEVENT
END:VCALENDAR