BEGIN:VCALENDAR
VERSION:2.0
PRODID:Events Booking
BEGIN:VEVENT
UID:69eb25c03b9a8
SUMMARY:Congreso: PMI TOUR N13
DESCRIPTION:
 No dejes de asistir.
 &nbsp\;
 
 No dejes de asistir.
 
 
 ¿Asististe al #CongresoPMIColombia del 7-12 Sep 2020? 
 Para ti\, tan 
 solo por $19\,000 COP si eres Miembro PMI Antioquia&nbsp\;
 &nbsp\;
 No 
 Miembro? $39\,000 COP&nbsp\;
DTSTART:20201113T170000Z
DTEND:20201114T201500Z
DTSTAMP:20260424T081144Z
ORGANIZER;CN=PMI Antioquia Chapter:MAILTO:contacto@pmiantioquia.org
END:VEVENT
END:VCALENDAR