BEGIN:VCALENDAR
VERSION:2.0
PRODID:Events Booking
BEGIN:VEVENT
UID:69eb541d6552f
SUMMARY:Congreso Virtual de Dirección de Proyectos
DESCRIPTION:No Miembros: $321\,000 (90 USD)
 Miembros PMI Colombia: $206\,
 000 (60 USD)
 GRUPOS 5 o + personas: $257\,000 (70 USD)
 Estudiantes de 
 DP: $240\,000 (68 USD)
DTSTART:20200907T210000Z
DTEND:20200912T180000Z
DTSTAMP:20260424T112933Z
ORGANIZER;CN=PMI Antioquia Chapter:MAILTO:contacto@pmiantioquia.org
END:VEVENT
END:VCALENDAR