BEGIN:VCALENDAR
VERSION:2.0
PRODID:Events Booking
BEGIN:VEVENT
UID:69e8d25d4ce63
SUMMARY:Construction Titans
DESCRIPTION:
DTSTART:20220908T120000Z
DTEND:20220911T040000Z
DTSTAMP:20260422T135125Z
ORGANIZER;CN=PMI Antioquia Chapter:MAILTO:contacto@pmiantioquia.org
END:VEVENT
END:VCALENDAR