BEGIN:VCALENDAR
VERSION:2.0
PRODID:Events Booking
BEGIN:VEVENT
UID:69eba3a70d35f
SUMMARY:Conversatorio: Lecciones Aprendidas e Implementación de las PMO's
DESCRIPTION:Entre:
 1.) Andrés Hincapie/ Alimentos Cárnicos
 2.) Holmes
  Rodriguez/ Grupo Reditos
 3.) Rosemberg Trujillo/ Tigo
DTSTART:20200722T223000Z
DTEND:20200723T000000Z
DTSTAMP:20260424T170855Z
ORGANIZER;CN=PMI Antioquia Chapter:MAILTO:contacto@pmiantioquia.org
END:VEVENT
END:VCALENDAR