BEGIN:VCALENDAR
VERSION:2.0
PRODID:Events Booking
BEGIN:VEVENT
UID:69ea441b464c2
SUMMARY:Cuantificación de Riesgos de Proyectos con Simulación Monte Carlo
  en Excel
DESCRIPTION:El Capítulo PMI Antioquia invita a la comunidad a la conferenc
 ia \"Cuantificación de Riesgos de Proyectos con Simulación Monte Carlo e
 n Excel\"
 &nbsp\;
 &nbsp\;
DTSTART:20210728T230000Z
DTEND:20210729T000000Z
DTSTAMP:20260423T160859Z
ORGANIZER;CN=PMI Antioquia Chapter:MAILTO:contacto@pmiantioquia.org
END:VEVENT
END:VCALENDAR