BEGIN:VCALENDAR
VERSION:2.0
PRODID:Events Booking
BEGIN:VEVENT
UID:69e913cb8370e
SUMMARY:Curso Certificación DASM Discipline Agile Scrum Master Certificati
 on
DESCRIPTION:BIENVENIDOS A LA RUTA DE AGILIDAD Y 
 GESTIÓN AGNÓSTICA DE P
 ROYECTOS HÍBRIDOS
 &nbsp\;
 CON TU INSCRIPCIÓN EN EL REGISTRO DE LA P
 ÁGINA RECIBIRÁS EN 
 TU CORREO ELECTRÓNICO LAS&nbsp\;INSTRUCCIONES PAR
 A EL PAGO
 
DTSTART:20220712T000000Z
DTEND:20220716T010000Z
DTSTAMP:20260422T183035Z
ORGANIZER;CN=PMI Antioquia Chapter:MAILTO:contacto@pmiantioquia.org
END:VEVENT
END:VCALENDAR