BEGIN:VCALENDAR
VERSION:2.0
PRODID:Events Booking
BEGIN:VEVENT
UID:69e8a779a54a8
SUMMARY:CURSO DASM
DESCRIPTION:El Capítulo PMI Antioquia te invita a participar del curso de 
 DASM
 &nbsp\;
 
DTSTART:20221123T010000Z
DTEND:20221026T193000Z
DTSTAMP:20260422T104825Z
ORGANIZER;CN=PMI Antioquia Chapter:MAILTO:contacto@pmiantioquia.org
END:VEVENT
END:VCALENDAR