BEGIN:VCALENDAR
VERSION:2.0
PRODID:Events Booking
BEGIN:VEVENT
UID:69e8a71a21ce9
SUMMARY:De la PMO a la Agile VMO Parte 2
DESCRIPTION:
DTSTART:20221130T233000Z
DTEND:20221201T003000Z
DTSTAMP:20260422T104650Z
ORGANIZER;CN=PMI Antioquia Chapter:MAILTO:contacto@pmiantioquia.org
END:VEVENT
END:VCALENDAR