BEGIN:VCALENDAR
VERSION:2.0
PRODID:Events Booking
BEGIN:VEVENT
UID:69e8d8650119b
SUMMARY:De la PMO a la Agile VMO
DESCRIPTION:
DTSTART:20220914T233000Z
DTEND:20220915T003000Z
DTSTAMP:20260422T141709Z
ORGANIZER;CN=PMI Antioquia Chapter:MAILTO:contacto@pmiantioquia.org
END:VEVENT
END:VCALENDAR