BEGIN:VCALENDAR
VERSION:2.0
PRODID:Events Booking
BEGIN:VEVENT
UID:69ea3fb29e437
SUMMARY:Dejando Huellas a través de las mentorías
DESCRIPTION:El Capítulo PMI Antioquia invita a la comunidad a la conferenc
 ia \"Dejando huella a través de las mentorías\"
 &nbsp\;
 
DTSTART:20210713T230000Z
DTEND:20210714T000000Z
DTSTAMP:20260423T155010Z
ORGANIZER;CN=PMI Antioquia Chapter:MAILTO:contacto@pmiantioquia.org
END:VEVENT
END:VCALENDAR