BEGIN:VCALENDAR
VERSION:2.0
PRODID:Events Booking
BEGIN:VEVENT
UID:69ea26c0e5746
SUMMARY:Del 2D \"colaborativo\" a las dimensiones BIM - Primer año
DESCRIPTION:El Capítulo PMI Antioquia invita a la comunidad a la conferenc
 ia \"Del 2D \"colaborativo\" a las dimensiones BIM - Primer año\"
 &nbsp
 \;
 
 &nbsp\;
 &nbsp\;
DTSTART:20210804T230000Z
DTEND:20210805T000000Z
DTSTAMP:20260423T140344Z
ORGANIZER;CN=PMI Antioquia Chapter:MAILTO:contacto@pmiantioquia.org
END:VEVENT
END:VCALENDAR