BEGIN:VCALENDAR
VERSION:2.0
PRODID:Events Booking
BEGIN:VEVENT
UID:69ebba05accae
SUMMARY:\"Desafíos y Lecciones Aprendidas en la gestión de proyectos de I
 nnovación abierta\"
DESCRIPTION:&nbsp\;RICARDO GALLEGO BURGOS
 Lecciones aprendidas en la gest
 ión de proyectos de innovación abierta que pueda aplicar en su ejercicio
  laboral y profesional.&nbsp\;
DTSTART:20200630T230000Z
DTEND:20200630T123000Z
DTSTAMP:20260424T184421Z
ORGANIZER;CN=PMI Antioquia Chapter:MAILTO:contacto@pmiantioquia.org
END:VEVENT
END:VCALENDAR