BEGIN:VCALENDAR
VERSION:2.0
PRODID:Events Booking
BEGIN:VEVENT
UID:69e593c5795f2
SUMMARY:Desmitificando Chat GPT
DESCRIPTION:EL CAPITULO PMI ANTIOQUIA TE INVITA AL EVENTO
 Anfitrión: Com
 unidad de Infraestructura
 Desmitificando Chat GPT
 &nbsp\;
 
DTSTART:20230323T233000Z
DTEND:20230324T003000Z
DTSTAMP:20230321T232140Z
ORGANIZER;CN=PMI Antioquia Chapter:MAILTO:contacto@pmiantioquia.org
END:VEVENT
END:VCALENDAR