BEGIN:VCALENDAR
VERSION:2.0
PRODID:Events Booking
BEGIN:VEVENT
UID:69e9724a3f499
SUMMARY:AGILE WAY OF WORKING: Discipline Agile Coaching
DESCRIPTION:&nbsp\;
 El Capítulo PMI Antioquia los invita al evento:&nbsp
 \;Discipline Agile Coaching 
 
DTSTART:20220317T010000Z
DTEND:20220317T020000Z
DTSTAMP:20260423T011346Z
ORGANIZER;CN=PMI Antioquia Chapter:MAILTO:contacto@pmiantioquia.org
END:VEVENT
END:VCALENDAR