BEGIN:VCALENDAR
VERSION:2.0
PRODID:Events Booking
BEGIN:VEVENT
UID:69e92e06be783
SUMMARY:Disciplined Agile Scrum Master\, una nueva ruta en el mundo de la a
 gilidad
DESCRIPTION:
DTSTART:20220615T233000Z
DTEND:20220616T003000Z
DTSTAMP:20260422T202230Z
ORGANIZER;CN=PMI Antioquia Chapter:MAILTO:contacto@pmiantioquia.org
END:VEVENT
END:VCALENDAR