BEGIN:VCALENDAR
VERSION:2.0
PRODID:Events Booking
BEGIN:VEVENT
UID:69eb79307aab2
SUMMARY:Drivers para Convertir una Cultura en Ágil
DESCRIPTION:Edgar Álvarez: conferencista internacional y CEO de importante
 s multinacionales LATAM y embajador innato de PMI como creador de diversas
  certificaciones.&nbsp\;
 &nbsp\;
 GRATIS para Miembros PMI Latam
 $5US
 D público general&nbsp\;
DTSTART:20200812T230000Z
DTEND:20200813T003000Z
DTSTAMP:20260424T140744Z
ORGANIZER;CN=PMI Antioquia Chapter:MAILTO:contacto@pmiantioquia.org
END:VEVENT
END:VCALENDAR