BEGIN:VCALENDAR
VERSION:2.0
PRODID:Events Booking
BEGIN:VEVENT
UID:69e5a4945f44b
SUMMARY:El ARTE DE CERRAR PROYECTOS
DESCRIPTION:&nbsp\;
 EL CAPITULO PMI ANTIOQUIA TE INVITA AL EVENTO
 \"ANF
 ITRIÓN : Comunidad de Infraestructura Antioquia\"
 &nbsp\;
 &nbsp\;
DTSTART:20230215T233000Z
DTEND:20230216T003000Z
DTSTAMP:20260420T035916Z
ORGANIZER;CN=PMI Antioquia Chapter:MAILTO:contacto@pmiantioquia.org
END:VEVENT
END:VCALENDAR