BEGIN:VCALENDAR
VERSION:2.0
PRODID:Events Booking
BEGIN:VEVENT
UID:69ead0aba3c29
SUMMARY:El arte de la comunicación en la Gestión de Proyectos
DESCRIPTION:Gratis para Miembros
DTSTART:20210310T230000Z
DTEND:20210311T000000Z
DTSTAMP:20260424T020843Z
ORGANIZER;CN=PMI Antioquia Chapter:MAILTO:contacto@pmiantioquia.org
END:VEVENT
END:VCALENDAR