BEGIN:VCALENDAR
VERSION:2.0
PRODID:Events Booking
BEGIN:VEVENT
UID:69ea465a1b032
SUMMARY:El camino hacia la transformación ágil
DESCRIPTION:&nbsp\;
 &nbsp\;&nbsp\;
 El Capítulo PMI Antioquia invita a 
 la comunidad a la conferencia \"El camino hacia la transformación ágil\"
DTSTART:20210707T230000Z
DTEND:20210708T000000Z
DTSTAMP:20260423T161834Z
ORGANIZER;CN=PMI Antioquia Chapter:MAILTO:contacto@pmiantioquia.org
END:VEVENT
END:VCALENDAR