BEGIN:VCALENDAR
VERSION:2.0
PRODID:Events Booking
BEGIN:VEVENT
UID:69e8c5d0ccf57
SUMMARY:El Once Ideal: descubre las 11 habilidades que necesitas para poten
 ciar tu negocio
DESCRIPTION:
DTSTART:20221026T233000Z
DTEND:20221027T003000Z
DTSTAMP:20260422T125752Z
ORGANIZER;CN=PMI Antioquia Chapter:MAILTO:contacto@pmiantioquia.org
END:VEVENT
END:VCALENDAR