BEGIN:VCALENDAR
VERSION:2.0
PRODID:Events Booking
BEGIN:VEVENT
UID:69e8d45269e7d
SUMMARY:PRECIO LANZAMIENTO CONGRESO MIEMBROS
DESCRIPTION:
DTSTART:20220923T220000Z
DTEND:20220924T230000Z
DTSTAMP:20260422T135946Z
ORGANIZER;CN=PMI Antioquia Chapter:MAILTO:contacto@pmiantioquia.org
END:VEVENT
END:VCALENDAR