BEGIN:VCALENDAR
VERSION:2.0
PRODID:Events Booking
BEGIN:VEVENT
UID:69e8d74f4dc1b
SUMMARY:PRECIO LANZAMIENTO CONGRESO PUBLICO
DESCRIPTION:
DTSTART:20220923T220000Z
DTEND:20220924T230000Z
DTSTAMP:20260422T141231Z
ORGANIZER;CN=PMI Antioquia Chapter:MAILTO:contacto@pmiantioquia.org
END:VEVENT
END:VCALENDAR