BEGIN:VCALENDAR
VERSION:2.0
PRODID:Events Booking
BEGIN:VEVENT
UID:69e8d329befa9
SUMMARY:PRECIO LANZAMIENTO TALLER PRE-CONGRESO MIEMBROS
DESCRIPTION:&nbsp\;
 
DTSTART:20220923T183000Z
DTEND:20220923T220000Z
DTSTAMP:20260422T135449Z
ORGANIZER;CN=PMI Antioquia Chapter:MAILTO:contacto@pmiantioquia.org
END:VEVENT
END:VCALENDAR