BEGIN:VCALENDAR
VERSION:2.0
PRODID:Events Booking
BEGIN:VEVENT
UID:69e8d25d23cec
SUMMARY:PRECIO LANZAMIENTO TALLER PRE-CONGRESO PUBLICO
DESCRIPTION:
DTSTART:20220923T183000Z
DTEND:20220923T220000Z
DTSTAMP:20260422T135125Z
ORGANIZER;CN=PMI Antioquia Chapter:MAILTO:contacto@pmiantioquia.org
END:VEVENT
END:VCALENDAR