BEGIN:VCALENDAR
VERSION:2.0
PRODID:Events Booking
BEGIN:VEVENT
UID:69e8d3096c7cb
SUMMARY:PRECIO LANZAMIENTO TALLER Y CONGRESO MIEMBROS
DESCRIPTION:&nbsp\;
 
DTSTART:20220923T183000Z
DTEND:20220924T230000Z
DTSTAMP:20260422T135417Z
ORGANIZER;CN=PMI Antioquia Chapter:MAILTO:contacto@pmiantioquia.org
END:VEVENT
END:VCALENDAR